BEGIN:VCALENDAR
VERSION:2.0
PRODID:-//85.13.150.74//NONSGML kigkonsult.se iCalcreator 2.20//
CALSCALE:GREGORIAN
METHOD:PUBLISH
X-WR-TIMEZONE:UTC
BEGIN:VEVENT
UID:event17851@FFM ROCK REVISITED
DTSTAMP:20260419T164034Z
CATEGORIES:Eventreihe
DESCRIPTION:BEST OF MAINOVA HEIMSPIEL 2012\nKategorie: Eventreihe\nICS-Link
 : https://ffm-rock.de/index.php?option=com_jem&view=event&id=17851:best-of
 -mainova-heimspiel-2012\n
DTSTART;VALUE=DATE:20121002
DTEND;VALUE=DATE:20121003
LOCATION:ALTE Batschkapp\,Maybachstraße 24\,60433 Frankfurt am Main
SUMMARY:BEST OF MAINOVA HEIMSPIEL 2012
URL:https://ffm-rock.de/index.php?option=com_jem&view=event&id=17851:best-o
 f-mainova-heimspiel-2012
END:VEVENT
END:VCALENDAR
