BEGIN:VCALENDAR
VERSION:2.0
PRODID:-//85.13.150.74//NONSGML kigkonsult.se iCalcreator 2.20//
CALSCALE:GREGORIAN
METHOD:PUBLISH
X-WR-TIMEZONE:UTC
BEGIN:VEVENT
UID:event18553@FFM ROCK REVISITED
DTSTAMP:20260426T031319Z
CATEGORIES:Cover / Tribute
DESCRIPTION:METALICOVER\nKategorie: Cover / Tribute\nICS-Link: https://ffm-
 rock.de/index.php?option=com_jem&view=event&id=18553:metalicover\n
DTSTART;VALUE=DATE:20121222
DTEND;VALUE=DATE:20121223
LOCATION:Alte Börse\,Steinbeisweg 50\,74523 Schwäbisch Hall
SUMMARY:METALICOVER
URL:https://ffm-rock.de/index.php?option=com_jem&view=event&id=18553:metali
 cover
END:VEVENT
END:VCALENDAR
