BEGIN:VCALENDAR
VERSION:2.0
PRODID:-//85.13.150.74//NONSGML kigkonsult.se iCalcreator 2.20//
CALSCALE:GREGORIAN
METHOD:PUBLISH
X-WR-TIMEZONE:UTC
BEGIN:VEVENT
UID:event19083@FFM ROCK REVISITED
DTSTAMP:20260426T031201Z
CATEGORIES:Cover / Tribute
DESCRIPTION:JUKE BOX HERO\nKategorie: Cover / Tribute\nICS-Link: https://ff
 m-rock.de/index.php?option=com_jem&view=event&id=19083:juke-box-hero\n
DTSTART;VALUE=DATE:20130625
DTEND;VALUE=DATE:20130626
LOCATION:MAX Bühne vor dem Hauptbahnhof\,Am Bahnhof\,24103  Kiel
SUMMARY:JUKE BOX HERO
URL:https://ffm-rock.de/index.php?option=com_jem&view=event&id=19083:juke-b
 ox-hero
END:VEVENT
END:VCALENDAR
