BEGIN:VCALENDAR
VERSION:2.0
PRODID:-//85.13.150.74//NONSGML kigkonsult.se iCalcreator 2.20//
CALSCALE:GREGORIAN
METHOD:PUBLISH
X-WR-TIMEZONE:UTC
BEGIN:VEVENT
UID:event19970@FFM ROCK REVISITED
DTSTAMP:20260426T015344Z
CATEGORIES:Cover / Tribute
DESCRIPTION:METAL-ATTACK\nKategorie: Cover / Tribute\nICS-Link: https://ffm
 -rock.de/index.php?option=com_jem&view=event&id=19970:metal-attack\n
DTSTART:20130824T173000Z
DTEND:20130824T173000Z
LOCATION:Stadtfest Aschaffenburg\,Stadtfest - verschiedene Bühnen\,63739 As
 chaffenburg
SUMMARY:METAL-ATTACK
URL:https://ffm-rock.de/index.php?option=com_jem&view=event&id=19970:metal-
 attack
END:VEVENT
END:VCALENDAR
