BEGIN:VCALENDAR
VERSION:2.0
PRODID:-//85.13.150.74//NONSGML kigkonsult.se iCalcreator 2.20//
CALSCALE:GREGORIAN
METHOD:PUBLISH
X-WR-TIMEZONE:UTC
BEGIN:VEVENT
UID:event21577@FFM ROCK REVISITED
DTSTAMP:20260426T002927Z
CATEGORIES:Cover / Tribute
DESCRIPTION:THE GRANDMOTHERS OF INVENTION\nKategorie: Cover / Tribute\nICS-
 Link: https://ffm-rock.de/index.php?option=com_jem&view=event&id=21577:the
 -grandmothers-of-invention\n
DTSTART;VALUE=DATE:20141124
DTEND;VALUE=DATE:20141125
LOCATION:Das Bett\,Schmidtstr. 12\,60326 Fankfurt am Main
SUMMARY:THE GRANDMOTHERS OF INVENTION
URL:https://ffm-rock.de/index.php?option=com_jem&view=event&id=21577:the-gr
 andmothers-of-invention
END:VEVENT
END:VCALENDAR
