BEGIN:VCALENDAR
VERSION:2.0
PRODID:-//85.13.150.74//NONSGML kigkonsult.se iCalcreator 2.20//
CALSCALE:GREGORIAN
METHOD:PUBLISH
X-WR-TIMEZONE:UTC
BEGIN:VEVENT
UID:event21626@FFM ROCK REVISITED
DTSTAMP:20260426T033235Z
CATEGORIES:Cover / Tribute
DESCRIPTION:CINZSECCO\nKategorie: Cover / Tribute\nICS-Link: https://ffm-ro
 ck.de/index.php?option=com_jem&view=event&id=21626:cinzsecco\n
DTSTART;VALUE=DATE:20140816
DTEND;VALUE=DATE:20140817
LOCATION:Bieberer Kerb\,Ostendplatz\,63073 Offenbach am Main - Bieber
SUMMARY:CINZSECCO
URL:https://ffm-rock.de/index.php?option=com_jem&view=event&id=21626:cinzse
 cco
END:VEVENT
END:VCALENDAR
