BEGIN:VCALENDAR
VERSION:2.0
PRODID:-//85.13.150.74//NONSGML kigkonsult.se iCalcreator 2.20//
CALSCALE:GREGORIAN
METHOD:PUBLISH
X-WR-TIMEZONE:UTC
BEGIN:VEVENT
UID:event22180@FFM ROCK REVISITED
DTSTAMP:20260425T224558Z
CATEGORIES:Cover / Tribute
DESCRIPTION:STONEFREE\nKategorie: Cover / Tribute\nICS-Link: https://ffm-ro
 ck.de/index.php?option=com_jem&view=event&id=22180:stonefree\n
DTSTART;VALUE=DATE:20141115
DTEND;VALUE=DATE:20141116
LOCATION:Brückenkopf Hanau\,Wilhelmstraße 15\,63450 Hanau
SUMMARY:STONEFREE
URL:https://ffm-rock.de/index.php?option=com_jem&view=event&id=22180:stonef
 ree
END:VEVENT
END:VCALENDAR
