BEGIN:VCALENDAR
VERSION:2.0
PRODID:-//85.13.150.74//NONSGML kigkonsult.se iCalcreator 2.20//
CALSCALE:GREGORIAN
METHOD:PUBLISH
X-WR-TIMEZONE:UTC
BEGIN:VEVENT
UID:event19627@FFM ROCK REVISITED
DTSTAMP:20260419T162444Z
CATEGORIES:Konzert-Tour
DESCRIPTION:BILLY BRAGG\nKategorie: Konzert-Tour\nICS-Link: https://ffm-roc
 k.de/index.php?option=com_jem&view=event&id=19627:billy-bragg\n
DTSTART;VALUE=DATE:20131115
DTEND;VALUE=DATE:20131116
LOCATION:ALTE Batschkapp\,Maybachstraße 24\,60433 Frankfurt am Main
SUMMARY:BILLY BRAGG
URL:https://ffm-rock.de/index.php?option=com_jem&view=event&id=19627:billy-
 bragg
END:VEVENT
END:VCALENDAR
