BEGIN:VCALENDAR
VERSION:2.0
PRODID:-//85.13.150.74//NONSGML kigkonsult.se iCalcreator 2.20//
CALSCALE:GREGORIAN
METHOD:PUBLISH
X-WR-TIMEZONE:UTC
BEGIN:VEVENT
UID:event20271@FFM ROCK REVISITED
DTSTAMP:20260419T140236Z
CATEGORIES:Festival
DESCRIPTION:ROCK ATTACK FESTIVAL mit MIDNITE SKY\nKategorie: Festival\nICS-
 Link: https://ffm-rock.de/index.php?option=com_jem&view=event&id=20271:roc
 k-attack-festival-mit-midnite-sky\n
DTSTART;VALUE=DATE:20131012
DTEND;VALUE=DATE:20131013
LOCATION:Bürgerhaus FDS Musbach\,Stockerbachstrasse 2 \,72250  Freudenstadt
 -Musbach
SUMMARY:ROCK ATTACK FESTIVAL mit MIDNITE SKY
URL:https://ffm-rock.de/index.php?option=com_jem&view=event&id=20271:rock-a
 ttack-festival-mit-midnite-sky
END:VEVENT
END:VCALENDAR
