BEGIN:VCALENDAR
VERSION:2.0
PRODID:-//85.13.150.74//NONSGML kigkonsult.se iCalcreator 2.20//
CALSCALE:GREGORIAN
METHOD:PUBLISH
X-WR-TIMEZONE:UTC
BEGIN:VEVENT
UID:event24397@FFM ROCK REVISITED
DTSTAMP:20260425T102250Z
CATEGORIES:Open Air
DESCRIPTION:HARD'N'HEAVY FREUNDE OFFENBACH auf dem Mainuferfest - abgesagt!
 \nKategorie: Open Air\nICS-Link: https://ffm-rock.de/index.php?option=com_
 jem&view=event&id=24397:hard-n-heavy-freunde-offenbach-auf-dem-mainuferfes
 t\n
DTSTART;VALUE=DATE:20160618
DTEND;VALUE=DATE:20160619
LOCATION:30. Mainuferfest\,Herrnstraße 82\,63065 Offenbach am Main
SUMMARY:HARD'N'HEAVY FREUNDE OFFENBACH auf dem Mainuferfest - abgesagt!
URL:https://ffm-rock.de/index.php?option=com_jem&view=event&id=24397:hard-n
 -heavy-freunde-offenbach-auf-dem-mainuferfest
END:VEVENT
END:VCALENDAR
