BEGIN:VCALENDAR
VERSION:2.0
PRODID:-//85.13.150.74//NONSGML kigkonsult.se iCalcreator 2.20//
CALSCALE:GREGORIAN
METHOD:PUBLISH
X-WR-TIMEZONE:UTC
BEGIN:VEVENT
UID:event24622@FFM ROCK REVISITED
DTSTAMP:20260421T182608Z
CATEGORIES:Konzert-Tour
DESCRIPTION:THE DEVIN TOWNSEND PROJECT\nKategorie: Konzert-Tour\nICS-Link: 
 https://ffm-rock.de/index.php?option=com_jem&view=event&id=24622:the-devin
 -townsend-project\n
DTSTART;VALUE=DATE:20170223
DTEND;VALUE=DATE:20170224
LOCATION:Pustervik\,Järntorgsgatan 12\,413 01 Göteborg
SUMMARY:THE DEVIN TOWNSEND PROJECT
URL:https://ffm-rock.de/index.php?option=com_jem&view=event&id=24622:the-de
 vin-townsend-project
END:VEVENT
END:VCALENDAR
