BEGIN:VCALENDAR
VERSION:2.0
PRODID:-//85.13.150.74//NONSGML kigkonsult.se iCalcreator 2.20//
CALSCALE:GREGORIAN
METHOD:PUBLISH
X-WR-TIMEZONE:UTC
BEGIN:VEVENT
UID:event25517@FFM ROCK REVISITED
DTSTAMP:20260423T075333Z
CATEGORIES:Konzert-Tour
DESCRIPTION:APPICE\nKategorie: Konzert-Tour\nICS-Link: https://ffm-rock.de/
 index.php?option=com_jem&view=event&id=25517:appice\n
DTSTART;VALUE=DATE:20180522
DTEND;VALUE=DATE:20180523
LOCATION:Bergkeller\,Moritzstraße 27\,08469 Reichenbach
SUMMARY:APPICE
URL:https://ffm-rock.de/index.php?option=com_jem&view=event&id=25517:appice
END:VEVENT
END:VCALENDAR
