BEGIN:VCALENDAR
VERSION:2.0
PRODID:-//85.13.150.74//NONSGML kigkonsult.se iCalcreator 2.20//
CALSCALE:GREGORIAN
METHOD:PUBLISH
X-WR-TIMEZONE:UTC
BEGIN:VEVENT
UID:event21075@FFM ROCK REVISITED
DTSTAMP:20260422T152303Z
CATEGORIES:Konzert-Tour
DESCRIPTION:DORO + LUKE GASSER & BAND\nKategorie: Konzert-Tour\nICS-Link: h
 ttps://ffm-rock.de/index.php?option=com_jem&view=event&id=21075:doro\n
DTSTART;VALUE=DATE:20141202
DTEND;VALUE=DATE:20141203
LOCATION:Posthalle\,Bahnhofplatz 2\,97070 Würzburg
SUMMARY:DORO + LUKE GASSER & BAND
URL:https://ffm-rock.de/index.php?option=com_jem&view=event&id=21075:doro
END:VEVENT
END:VCALENDAR
