BEGIN:VCALENDAR
VERSION:2.0
PRODID:-//85.13.150.74//NONSGML kigkonsult.se iCalcreator 2.20//
CALSCALE:GREGORIAN
METHOD:PUBLISH
X-WR-TIMEZONE:UTC
BEGIN:VEVENT
UID:event23659@FFM ROCK REVISITED
DTSTAMP:20260420T042816Z
CATEGORIES:Konzert-Tour
DESCRIPTION:FIDDLER'S GREEN\nKategorie: Konzert-Tour\nICS-Link: https://ffm
 -rock.de/index.php?option=com_jem&view=event&id=23659:fiddler-s-green\n
DTSTART;VALUE=DATE:20151106
DTEND;VALUE=DATE:20151107
LOCATION:SPL Eventhalle\,Ochsenmühlstraße 25\,85049 Ingolstadt
SUMMARY:FIDDLER'S GREEN
URL:https://ffm-rock.de/index.php?option=com_jem&view=event&id=23659:fiddle
 r-s-green
END:VEVENT
END:VCALENDAR
