BEGIN:VCALENDAR
VERSION:2.0
PRODID:-//85.13.150.74//NONSGML kigkonsult.se iCalcreator 2.20//
CALSCALE:GREGORIAN
METHOD:PUBLISH
X-WR-TIMEZONE:UTC
BEGIN:VEVENT
UID:event23688@FFM ROCK REVISITED
DTSTAMP:20260419T215608Z
CATEGORIES:Konzert-Tour
DESCRIPTION:CORVUS CORAX\nKategorie: Konzert-Tour\nICS-Link: https://ffm-ro
 ck.de/index.php?option=com_jem&view=event&id=23688:corvus-corax\n
DTSTART;VALUE=DATE:20151212
DTEND;VALUE=DATE:20151213
LOCATION:SPL Eventhalle\,Ochsenmühlstraße 25\,85049 Ingolstadt
SUMMARY:CORVUS CORAX
URL:https://ffm-rock.de/index.php?option=com_jem&view=event&id=23688:corvus
 -corax
END:VEVENT
END:VCALENDAR
