BEGIN:VCALENDAR
VERSION:2.0
PRODID:-//85.13.150.74//NONSGML kigkonsult.se iCalcreator 2.20//
CALSCALE:GREGORIAN
METHOD:PUBLISH
X-WR-TIMEZONE:UTC
BEGIN:VEVENT
UID:event23971@FFM ROCK REVISITED
DTSTAMP:20260422T154205Z
CATEGORIES:Konzert-Tour
DESCRIPTION:DRITTE WAHL\nKategorie: Konzert-Tour\nICS-Link: https://ffm-roc
 k.de/index.php?option=com_jem&view=event&id=23971:dritte-wahl\n
DTSTART;VALUE=DATE:20160226
DTEND;VALUE=DATE:20160227
LOCATION:Colos-Saal\,Roßmarkt 19\,63739 Aschaffenburg
SUMMARY:DRITTE WAHL
URL:https://ffm-rock.de/index.php?option=com_jem&view=event&id=23971:dritte
 -wahl
END:VEVENT
END:VCALENDAR
