BEGIN:VCALENDAR
VERSION:2.0
PRODID:-//85.13.150.74//NONSGML kigkonsult.se iCalcreator 2.20//
CALSCALE:GREGORIAN
METHOD:PUBLISH
X-WR-TIMEZONE:UTC
BEGIN:VEVENT
UID:event24087@FFM ROCK REVISITED
DTSTAMP:20260420T093114Z
CATEGORIES:Konzert-Tour
DESCRIPTION:EXODUS\nKategorie: Konzert-Tour\nICS-Link: https://ffm-rock.de/
 index.php?option=com_jem&view=event&id=24087:exodus\n
DTSTART;VALUE=DATE:20160330
DTEND;VALUE=DATE:20160331
LOCATION:Colos-Saal\,Roßmarkt 19\,63739 Aschaffenburg
SUMMARY:EXODUS
URL:https://ffm-rock.de/index.php?option=com_jem&view=event&id=24087:exodus
END:VEVENT
END:VCALENDAR
