BEGIN:VCALENDAR
VERSION:2.0
PRODID:-//85.13.150.74//NONSGML kigkonsult.se iCalcreator 2.20//
CALSCALE:GREGORIAN
METHOD:PUBLISH
X-WR-TIMEZONE:UTC
BEGIN:VEVENT
UID:event24092@FFM ROCK REVISITED
DTSTAMP:20260422T235638Z
CATEGORIES:Konzert-Tour
DESCRIPTION:KADAVAR\nKategorie: Konzert-Tour\nICS-Link: https://ffm-rock.de
 /index.php?option=com_jem&view=event&id=24092:kadavar\n
DTSTART;VALUE=DATE:20160424
DTEND;VALUE=DATE:20160425
LOCATION:Colos-Saal\,Roßmarkt 19\,63739 Aschaffenburg
SUMMARY:KADAVAR
URL:https://ffm-rock.de/index.php?option=com_jem&view=event&id=24092:kadava
 r
END:VEVENT
END:VCALENDAR
