BEGIN:VCALENDAR
VERSION:2.0
PRODID:-//85.13.150.74//NONSGML kigkonsult.se iCalcreator 2.20//
CALSCALE:GREGORIAN
METHOD:PUBLISH
X-WR-TIMEZONE:UTC
BEGIN:VEVENT
UID:event27351@FFM ROCK REVISITED
DTSTAMP:20260420T061238Z
CATEGORIES:Konzert-Tour
DESCRIPTION:TANKARD\nKategorie: Konzert-Tour\nICS-Link: https://ffm-rock.de
 /index.php?option=com_jem&view=event&id=27351:tankard\n
DTSTART;VALUE=DATE:20231005
DTEND;VALUE=DATE:20231006
LOCATION:SPL Eventhalle\,Ochsenmühlstraße 25\,85049 Ingolstadt
SUMMARY:TANKARD
URL:https://ffm-rock.de/index.php?option=com_jem&view=event&id=27351:tankar
 d
END:VEVENT
END:VCALENDAR
